Package: scShapes Version: 1.12.0 Command: rm -rf scShapes.buildbin-libdir && mkdir scShapes.buildbin-libdir && F:\biocbuild\bbs-3.20-bioc\R\bin\R.exe CMD INSTALL --build --library=scShapes.buildbin-libdir scShapes_1.12.0.tar.gz StartedAt: 2025-02-04 09:29:03 -0500 (Tue, 04 Feb 2025) EndedAt: 2025-02-04 09:29:22 -0500 (Tue, 04 Feb 2025) EllapsedTime: 19.5 seconds RetCode: 0 Status: OK PackageFile: scShapes_1.12.0.zip PackageFileSize: 77.32 KiB