Package: scShapes Version: 1.12.0 Command: F:\biocbuild\bbs-3.20-bioc\R\bin\R.exe CMD INSTALL scShapes StartedAt: 2025-02-03 15:55:31 -0500 (Mon, 03 Feb 2025) EndedAt: 2025-02-03 15:55:46 -0500 (Mon, 03 Feb 2025) EllapsedTime: 14.8 seconds RetCode: 0 Status: OK