Package: scShapes Version: 1.12.0 Command: /home/biocbuild/R/R/bin/R CMD build --keep-empty-dirs --no-resave-data scShapes StartedAt: 2025-02-04 02:51:36 -0000 (Tue, 04 Feb 2025) EndedAt: 2025-02-04 02:53:53 -0000 (Tue, 04 Feb 2025) EllapsedTime: 137.2 seconds RetCode: 0 Status: OK PackageFile: scShapes_1.12.0.tar.gz PackageFileSize: 30.68 KiB