Package: scShapes Version: 1.12.0 Command: /home/biocbuild/R/R/bin/R CMD check --install=check:scShapes.install-out.txt --library=/home/biocbuild/R/R/site-library --no-vignettes --timings scShapes_1.12.0.tar.gz StartedAt: 2025-02-04 10:56:57 -0000 (Tue, 04 Feb 2025) EndedAt: 2025-02-04 10:59:48 -0000 (Tue, 04 Feb 2025) EllapsedTime: 171.2 seconds RetCode: 0 Status: OK CheckDir: scShapes.Rcheck Warnings: 0