Package: scShapes Version: 1.12.0 Command: /home/biocbuild/R/R/bin/R CMD INSTALL scShapes StartedAt: 2025-02-03 20:36:59 -0000 (Mon, 03 Feb 2025) EndedAt: 2025-02-03 20:37:08 -0000 (Mon, 03 Feb 2025) EllapsedTime: 9.2 seconds RetCode: 0 Status: OK