Package: scTGIF Version: 1.20.0 Command: /Library/Frameworks/R.framework/Resources/bin/R CMD build --keep-empty-dirs --no-resave-data scTGIF StartedAt: 2025-02-03 22:12:53 -0500 (Mon, 03 Feb 2025) EndedAt: 2025-02-03 22:15:02 -0500 (Mon, 03 Feb 2025) EllapsedTime: 129.4 seconds RetCode: 0 Status: OK PackageFile: scTGIF_1.20.0.tar.gz PackageFileSize: 2.411 MiB