Package: scTGIF Version: 1.20.0 Command: /Library/Frameworks/R.framework/Resources/bin/R CMD check --install=check:scTGIF.install-out.txt --library=/Library/Frameworks/R.framework/Resources/library --no-vignettes --timings scTGIF_1.20.0.tar.gz StartedAt: 2025-02-04 09:55:04 -0500 (Tue, 04 Feb 2025) EndedAt: 2025-02-04 10:04:19 -0500 (Tue, 04 Feb 2025) EllapsedTime: 554.7 seconds RetCode: 0 Status: OK CheckDir: scTGIF.Rcheck Warnings: 0