Package: scTGIF Version: 1.20.0 Command: /Library/Frameworks/R.framework/Resources/bin/R CMD INSTALL scTGIF StartedAt: 2025-02-03 16:04:50 -0500 (Mon, 03 Feb 2025) EndedAt: 2025-02-03 16:06:05 -0500 (Mon, 03 Feb 2025) EllapsedTime: 74.5 seconds RetCode: 0 Status: OK