Package: scTGIF Version: 1.20.0 Command: F:\biocbuild\bbs-3.20-bioc\R\bin\R.exe CMD INSTALL scTGIF StartedAt: 2025-02-03 16:47:20 -0500 (Mon, 03 Feb 2025) EndedAt: 2025-02-03 16:48:19 -0500 (Mon, 03 Feb 2025) EllapsedTime: 58.5 seconds RetCode: 0 Status: OK