Package: scTGIF Version: 1.20.0 Command: /home/biocbuild/R/R/bin/R CMD INSTALL scTGIF StartedAt: 2025-02-17 20:51:58 -0000 (Mon, 17 Feb 2025) EndedAt: 2025-02-17 20:51:58 -0000 (Mon, 17 Feb 2025) EllapsedTime: 0.5 seconds RetCode: 1 Status: ERROR