Package: scTHI Version: 1.18.0 Command: /home/biocbuild/bbs-3.20-bioc/R/bin/R CMD build --keep-empty-dirs --no-resave-data --md5 scTHI StartedAt: 2025-02-03 19:15:46 -0500 (Mon, 03 Feb 2025) EndedAt: 2025-02-03 19:16:48 -0500 (Mon, 03 Feb 2025) EllapsedTime: 62.0 seconds RetCode: 0 Status: OK PackageFile: scTHI_1.18.0.tar.gz PackageFileSize: 713.3 KiB