Package: scTHI Version: 1.18.0 Command: rm -rf scTHI.buildbin-libdir && mkdir scTHI.buildbin-libdir && F:\biocbuild\bbs-3.20-bioc\R\bin\R.exe CMD INSTALL --build --library=scTHI.buildbin-libdir scTHI_1.18.0.tar.gz StartedAt: 2025-02-04 09:29:11 -0500 (Tue, 04 Feb 2025) EndedAt: 2025-02-04 09:29:18 -0500 (Tue, 04 Feb 2025) EllapsedTime: 7.6 seconds RetCode: 0 Status: OK PackageFile: scTHI_1.18.0.zip PackageFileSize: 571.4 KiB