Package: scTHI Version: 1.18.0 Command: chmod a+r scTHI -R && F:\biocbuild\bbs-3.20-bioc\R\bin\R.exe CMD build --keep-empty-dirs --no-resave-data scTHI StartedAt: 2025-02-03 22:03:15 -0500 (Mon, 03 Feb 2025) EndedAt: 2025-02-03 22:04:52 -0500 (Mon, 03 Feb 2025) EllapsedTime: 97.7 seconds RetCode: 0 Status: OK PackageFile: scTHI_1.18.0.tar.gz PackageFileSize: 530.5 KiB