Package: scTHI Version: 1.18.0 Command: /home/biocbuild/R/R/bin/R CMD build --keep-empty-dirs --no-resave-data scTHI StartedAt: 2025-02-04 02:51:59 -0000 (Tue, 04 Feb 2025) EndedAt: 2025-02-04 02:53:42 -0000 (Tue, 04 Feb 2025) EllapsedTime: 103.1 seconds RetCode: 0 Status: OK PackageFile: scTHI_1.18.0.tar.gz PackageFileSize: 553.9 KiB