Package: scTHI Version: 1.18.0 Command: /home/biocbuild/R/R/bin/R CMD check --install=check:scTHI.install-out.txt --library=/home/biocbuild/R/R/site-library --no-vignettes --timings scTHI_1.18.0.tar.gz StartedAt: 2025-01-31 10:17:49 -0000 (Fri, 31 Jan 2025) EndedAt: 2025-01-31 10:18:44 -0000 (Fri, 31 Jan 2025) EllapsedTime: 55.0 seconds RetCode: 0 Status: OK CheckDir: scTHI.Rcheck Warnings: 0