Package: scTensor Version: 2.16.0 Command: rm -rf scTensor.buildbin-libdir && mkdir scTensor.buildbin-libdir && /Users/biocbuild/BBS/utils/build-universal.sh scTensor_2.16.0.tar.gz /Library/Frameworks/R.framework/Resources/bin/R scTensor.buildbin-libdir StartedAt: 2025-02-05 17:45:14 -0500 (Wed, 05 Feb 2025) EndedAt: 2025-02-05 17:46:26 -0500 (Wed, 05 Feb 2025) EllapsedTime: 72.4 seconds RetCode: 0 Status: OK PackageFile: scTensor_2.16.0.tgz PackageFileSize: 5.884 MiB