Package: scTensor
Version: 2.16.0
Command: /Library/Frameworks/R.framework/Resources/bin/R CMD build --keep-empty-dirs --no-resave-data scTensor
StartedAt: 2025-02-18 07:50:48 -0500 (Tue, 18 Feb 2025)
EndedAt: 2025-02-18 07:53:20 -0500 (Tue, 18 Feb 2025)
EllapsedTime: 152.8 seconds
RetCode: 0
Status: OK
PackageFile: scTensor_2.16.0.tar.gz
PackageFileSize: 10.49 <A href="http://en.wikipedia.org/wiki/MiB" target="_blank">MiB</A>