Package: scTensor
Version: 2.15.0
Command: rm -rf scTensor.buildbin-libdir && mkdir scTensor.buildbin-libdir && C:\Users\biocbuild\bbs-3.20-bioc\R\bin\R.exe CMD INSTALL --build --library=scTensor.buildbin-libdir scTensor_2.15.0.tar.gz
StartedAt: 2024-07-16 06:44:09 -0400 (Tue, 16 Jul 2024)
EndedAt: 2024-07-16 06:45:12 -0400 (Tue, 16 Jul 2024)
EllapsedTime: 62.5 seconds
RetCode: 0
Status: OK
PackageFile: scTensor_2.15.0.zip
PackageFileSize: 5.662 <A href="http://en.wikipedia.org/wiki/MiB" target="_blank">MiB</A>