Package: scTensor Version: 2.16.0 Command: /home/biocbuild/R/R/bin/R CMD build --keep-empty-dirs --no-resave-data scTensor StartedAt: 2025-02-04 02:51:55 -0000 (Tue, 04 Feb 2025) EndedAt: 2025-02-04 02:51:57 -0000 (Tue, 04 Feb 2025) EllapsedTime: 2.0 seconds RetCode: 1 Status: ERROR PackageFile: None PackageFileSize: NA