Package: scTreeViz Version: 1.12.0 Command: /Library/Frameworks/R.framework/Resources/bin/R CMD build --keep-empty-dirs --no-resave-data scTreeViz StartedAt: 2025-01-31 07:47:17 -0500 (Fri, 31 Jan 2025) EndedAt: 2025-01-31 07:50:19 -0500 (Fri, 31 Jan 2025) EllapsedTime: 181.6 seconds RetCode: 0 Status: OK PackageFile: scTreeViz_1.12.0.tar.gz PackageFileSize: 2.297 MiB