Package: scTreeViz Version: 1.12.0 Command: /Library/Frameworks/R.framework/Resources/bin/R CMD check --install=check:scTreeViz.install-out.txt --library=/Library/Frameworks/R.framework/Resources/library --no-vignettes --timings scTreeViz_1.12.0.tar.gz StartedAt: 2025-02-01 08:52:53 -0500 (Sat, 01 Feb 2025) EndedAt: 2025-02-01 09:01:45 -0500 (Sat, 01 Feb 2025) EllapsedTime: 531.9 seconds RetCode: 0 Status: OK CheckDir: scTreeViz.Rcheck Warnings: 0