Package: scTreeViz Version: 1.12.0 Command: /Library/Frameworks/R.framework/Resources/bin/R CMD INSTALL scTreeViz StartedAt: 2025-01-30 16:34:23 -0500 (Thu, 30 Jan 2025) EndedAt: 2025-01-30 16:36:51 -0500 (Thu, 30 Jan 2025) EllapsedTime: 148.6 seconds RetCode: 0 Status: OK