Package: scTreeViz Version: 1.12.0 Command: chmod a+r scTreeViz -R && F:\biocbuild\bbs-3.20-bioc\R\bin\R.exe CMD build --keep-empty-dirs --no-resave-data scTreeViz StartedAt: 2025-01-30 21:46:47 -0500 (Thu, 30 Jan 2025) EndedAt: 2025-01-30 21:50:38 -0500 (Thu, 30 Jan 2025) EllapsedTime: 231.1 seconds RetCode: 0 Status: OK PackageFile: scTreeViz_1.12.0.tar.gz PackageFileSize: 2.209 MiB