Package: scTreeViz Version: 1.12.0 Command: /home/biocbuild/R/R/bin/R CMD INSTALL scTreeViz StartedAt: 2025-01-30 21:01:21 -0000 (Thu, 30 Jan 2025) EndedAt: 2025-01-30 21:02:44 -0000 (Thu, 30 Jan 2025) EllapsedTime: 83.4 seconds RetCode: 0 Status: OK