Package: scanMiR Version: 1.12.0 Command: /Library/Frameworks/R.framework/Resources/bin/R CMD build --keep-empty-dirs --no-resave-data scanMiR StartedAt: 2025-02-04 07:17:08 -0500 (Tue, 04 Feb 2025) EndedAt: 2025-02-04 07:17:54 -0500 (Tue, 04 Feb 2025) EllapsedTime: 46.2 seconds RetCode: 0 Status: OK PackageFile: scanMiR_1.12.0.tar.gz PackageFileSize: 1.062 MiB