Package: scanMiR Version: 1.12.0 Command: /Library/Frameworks/R.framework/Resources/bin/R CMD build --keep-empty-dirs --no-resave-data scanMiR StartedAt: 2025-01-30 22:30:21 -0500 (Thu, 30 Jan 2025) EndedAt: 2025-01-30 22:31:21 -0500 (Thu, 30 Jan 2025) EllapsedTime: 59.6 seconds RetCode: 0 Status: OK PackageFile: scanMiR_1.12.0.tar.gz PackageFileSize: 1.062 MiB