Package: scanMiR Version: 1.12.0 Command: /home/biocbuild/bbs-3.20-bioc/R/bin/R CMD INSTALL scanMiR StartedAt: 2025-02-03 15:29:41 -0500 (Mon, 03 Feb 2025) EndedAt: 2025-02-03 15:29:55 -0500 (Mon, 03 Feb 2025) EllapsedTime: 14.8 seconds RetCode: 0 Status: OK