Package: scanMiR Version: 1.12.0 Command: chmod a+r scanMiR -R && F:\biocbuild\bbs-3.20-bioc\R\bin\R.exe CMD build --keep-empty-dirs --no-resave-data scanMiR StartedAt: 2025-01-30 21:36:08 -0500 (Thu, 30 Jan 2025) EndedAt: 2025-01-30 21:36:48 -0500 (Thu, 30 Jan 2025) EllapsedTime: 39.9 seconds RetCode: 0 Status: OK PackageFile: scanMiR_1.12.0.tar.gz PackageFileSize: 1.013 MiB