Package: scanMiR Version: 1.12.0 Command: F:\biocbuild\bbs-3.20-bioc\R\bin\R.exe CMD INSTALL scanMiR StartedAt: 2025-01-30 15:40:24 -0500 (Thu, 30 Jan 2025) EndedAt: 2025-01-30 15:40:59 -0500 (Thu, 30 Jan 2025) EllapsedTime: 34.7 seconds RetCode: 0 Status: OK