Package: scanMiR Version: 1.12.0 Command: /home/biocbuild/R/R/bin/R CMD build --keep-empty-dirs --no-resave-data scanMiR StartedAt: 2025-02-04 02:35:12 -0000 (Tue, 04 Feb 2025) EndedAt: 2025-02-04 02:35:51 -0000 (Tue, 04 Feb 2025) EllapsedTime: 39.1 seconds RetCode: 0 Status: OK PackageFile: scanMiR_1.12.0.tar.gz PackageFileSize: 1.061 MiB