Package: scanMiR Version: 1.12.0 Command: /home/biocbuild/R/R/bin/R CMD INSTALL scanMiR StartedAt: 2025-02-10 20:24:44 -0000 (Mon, 10 Feb 2025) EndedAt: 2025-02-10 20:25:04 -0000 (Mon, 10 Feb 2025) EllapsedTime: 20.8 seconds RetCode: 0 Status: OK