Package: scanMiRApp Version: 1.12.0 Command: /Library/Frameworks/R.framework/Resources/bin/R CMD check --install=check:scanMiRApp.install-out.txt --library=/Library/Frameworks/R.framework/Resources/library --no-vignettes --timings scanMiRApp_1.12.0.tar.gz StartedAt: 2024-11-09 12:24:13 -0500 (Sat, 09 Nov 2024) EndedAt: 2024-11-09 12:29:45 -0500 (Sat, 09 Nov 2024) EllapsedTime: 332.3 seconds RetCode: 0 Status: OK CheckDir: scanMiRApp.Rcheck Warnings: 0