Package: scanMiRApp Version: 1.12.0 Command: /Library/Frameworks/R.framework/Resources/bin/R CMD build --keep-empty-dirs --no-resave-data scanMiRApp StartedAt: 2025-02-03 21:57:35 -0500 (Mon, 03 Feb 2025) EndedAt: 2025-02-03 22:00:13 -0500 (Mon, 03 Feb 2025) EllapsedTime: 158.5 seconds RetCode: 0 Status: OK PackageFile: scanMiRApp_1.12.0.tar.gz PackageFileSize: 904.4 KiB