Package: scanMiRApp Version: 1.12.0 Command: /Library/Frameworks/R.framework/Resources/bin/R CMD check --install=check:scanMiRApp.install-out.txt --library=/Library/Frameworks/R.framework/Resources/library --no-vignettes --timings scanMiRApp_1.12.0.tar.gz StartedAt: 2025-02-11 09:47:58 -0500 (Tue, 11 Feb 2025) EndedAt: 2025-02-11 09:58:19 -0500 (Tue, 11 Feb 2025) EllapsedTime: 621.0 seconds RetCode: 0 Status: OK CheckDir: scanMiRApp.Rcheck Warnings: 0