Package: scanMiRApp Version: 1.12.0 Command: /Library/Frameworks/R.framework/Resources/bin/R CMD INSTALL scanMiRApp StartedAt: 2025-02-03 16:06:09 -0500 (Mon, 03 Feb 2025) EndedAt: 2025-02-03 16:07:44 -0500 (Mon, 03 Feb 2025) EllapsedTime: 94.9 seconds RetCode: 0 Status: OK