Package: scanMiRApp Version: 1.12.0 Command: /home/biocbuild/R/R/bin/R CMD INSTALL scanMiRApp StartedAt: 2025-02-03 20:57:34 -0000 (Mon, 03 Feb 2025) EndedAt: 2025-02-03 20:58:30 -0000 (Mon, 03 Feb 2025) EllapsedTime: 55.9 seconds RetCode: 0 Status: OK