Package: scater Version: 1.34.0 Command: rm -rf scater.buildbin-libdir && mkdir scater.buildbin-libdir && /Users/biocbuild/BBS/utils/build-universal.sh scater_1.34.0.tar.gz /Library/Frameworks/R.framework/Resources/bin/R scater.buildbin-libdir StartedAt: 2025-02-05 17:38:45 -0500 (Wed, 05 Feb 2025) EndedAt: 2025-02-05 17:39:22 -0500 (Wed, 05 Feb 2025) EllapsedTime: 37.1 seconds RetCode: 0 Status: OK PackageFile: scater_1.34.0.tgz PackageFileSize: 4.725 MiB