Package: scater Version: 1.34.0 Command: /Library/Frameworks/R.framework/Resources/bin/R CMD build --keep-empty-dirs --no-resave-data scater StartedAt: 2025-02-04 07:20:13 -0500 (Tue, 04 Feb 2025) EndedAt: 2025-02-04 07:23:40 -0500 (Tue, 04 Feb 2025) EllapsedTime: 207.1 seconds RetCode: 0 Status: OK PackageFile: scater_1.34.0.tar.gz PackageFileSize: 4.469 MiB