Package: scater Version: 1.34.0 Command: /Library/Frameworks/R.framework/Resources/bin/R CMD check --install=check:scater.install-out.txt --library=/Library/Frameworks/R.framework/Resources/library --no-vignettes --timings scater_1.34.0.tar.gz StartedAt: 2025-02-05 08:51:28 -0500 (Wed, 05 Feb 2025) EndedAt: 2025-02-05 09:00:18 -0500 (Wed, 05 Feb 2025) EllapsedTime: 529.7 seconds RetCode: 1 Status: ERROR CheckDir: scater.Rcheck Warnings: NA