Package: scater
Version: 1.34.0
Command: /Library/Frameworks/R.framework/Resources/bin/R CMD build --keep-empty-dirs --no-resave-data scater
StartedAt: 2024-11-19 18:30:13 -0500 (Tue, 19 Nov 2024)
EndedAt: 2024-11-19 18:33:12 -0500 (Tue, 19 Nov 2024)
EllapsedTime: 179.7 seconds
RetCode: 0
Status: OK
PackageFile: scater_1.34.0.tar.gz
PackageFileSize: 4.313 <A href="http://en.wikipedia.org/wiki/MiB" target="_blank">MiB</A>