Package: scater Version: 1.34.0 Command: /Library/Frameworks/R.framework/Resources/bin/R CMD build --keep-empty-dirs --no-resave-data scater StartedAt: 2025-02-03 21:58:44 -0500 (Mon, 03 Feb 2025) EndedAt: 2025-02-03 22:03:59 -0500 (Mon, 03 Feb 2025) EllapsedTime: 315.7 seconds RetCode: 0 Status: OK PackageFile: scater_1.34.0.tar.gz PackageFileSize: 4.324 MiB