Package: scater Version: 1.34.0 Command: /Library/Frameworks/R.framework/Resources/bin/R CMD check --install=check:scater.install-out.txt --library=/Library/Frameworks/R.framework/Resources/library --no-vignettes --timings scater_1.34.0.tar.gz StartedAt: 2025-02-04 09:33:02 -0500 (Tue, 04 Feb 2025) EndedAt: 2025-02-04 09:48:03 -0500 (Tue, 04 Feb 2025) EllapsedTime: 900.7 seconds RetCode: 0 Status: OK CheckDir: scater.Rcheck Warnings: 0