Package: scater Version: 1.34.0 Command: /Library/Frameworks/R.framework/Resources/bin/R CMD INSTALL scater StartedAt: 2025-02-03 16:34:43 -0500 (Mon, 03 Feb 2025) EndedAt: 2025-02-03 16:35:45 -0500 (Mon, 03 Feb 2025) EllapsedTime: 62.7 seconds RetCode: 0 Status: OK