Package: scater Version: 1.34.0 Command: /home/biocbuild/bbs-3.20-bioc/R/bin/R CMD check --install=check:scater.install-out.txt --library=/home/biocbuild/bbs-3.20-bioc/R/site-library --timings scater_1.34.0.tar.gz StartedAt: 2025-02-04 02:06:56 -0500 (Tue, 04 Feb 2025) EndedAt: 2025-02-04 02:16:53 -0500 (Tue, 04 Feb 2025) EllapsedTime: 597.0 seconds RetCode: 0 Status: OK CheckDir: scater.Rcheck Warnings: 0