Package: scater Version: 1.34.0 Command: rm -rf scater.buildbin-libdir && mkdir scater.buildbin-libdir && F:\biocbuild\bbs-3.20-bioc\R\bin\R.exe CMD INSTALL --build --library=scater.buildbin-libdir scater_1.34.0.tar.gz StartedAt: 2025-02-04 09:26:41 -0500 (Tue, 04 Feb 2025) EndedAt: 2025-02-04 09:27:50 -0500 (Tue, 04 Feb 2025) EllapsedTime: 68.7 seconds RetCode: 0 Status: OK PackageFile: scater_1.34.0.zip PackageFileSize: 2.379 MiB