Package: scde Version: 2.34.0 Command: /home/biocbuild/R/R/bin/R CMD INSTALL scde StartedAt: 2025-02-03 21:11:01 -0000 (Mon, 03 Feb 2025) EndedAt: 2025-02-03 21:12:16 -0000 (Mon, 03 Feb 2025) EllapsedTime: 74.9 seconds RetCode: 0 Status: OK