Package: scds Version: 1.22.0 Command: /Library/Frameworks/R.framework/Resources/bin/R CMD INSTALL scds StartedAt: 2025-02-03 15:32:58 -0500 (Mon, 03 Feb 2025) EndedAt: 2025-02-03 15:33:13 -0500 (Mon, 03 Feb 2025) EllapsedTime: 14.5 seconds RetCode: 0 Status: OK