Package: scds Version: 1.22.0 Command: /Library/Frameworks/R.framework/Resources/bin/R CMD build --keep-empty-dirs --no-resave-data scds StartedAt: 2025-02-03 22:01:50 -0500 (Mon, 03 Feb 2025) EndedAt: 2025-02-03 22:03:57 -0500 (Mon, 03 Feb 2025) EllapsedTime: 127.5 seconds RetCode: 0 Status: OK PackageFile: scds_1.22.0.tar.gz PackageFileSize: 1.417 MiB