Package: scds Version: 1.22.0 Command: /Library/Frameworks/R.framework/Resources/bin/R CMD INSTALL scds StartedAt: 2025-02-03 15:30:53 -0500 (Mon, 03 Feb 2025) EndedAt: 2025-02-03 15:31:52 -0500 (Mon, 03 Feb 2025) EllapsedTime: 59.3 seconds RetCode: 0 Status: OK