Package: scds Version: 1.22.0 Command: F:\biocbuild\bbs-3.20-bioc\R\bin\R.exe CMD INSTALL scds StartedAt: 2025-02-03 16:47:08 -0500 (Mon, 03 Feb 2025) EndedAt: 2025-02-03 16:47:47 -0500 (Mon, 03 Feb 2025) EllapsedTime: 38.9 seconds RetCode: 0 Status: OK